BEGIN:VCALENDAR
PRODID:-//http://statistik.d-u-v.org//PHP ultracalendar//EN
VERSION:2.0
METHOD:PUBLISH
BEGIN:VEVENT
DTSTAMP:20260423T011138
CREATED:20220620T200844
UID:1776906698.0.91791400-87734@statistik.d-u-v.org
SUMMARY:Kettle Moraine 38 Mile Night Run
DESCRIPTION: Kettle Moraine 38 Mile Night Run\n
  Jason Dorgan & Tim 'Timo' Yanacheck\n
  kettle100run[at]yahoo.com
DTSTART:20220611T173000
DTEND:20220612T073000
LOCATION:LaGrange, WI\, USA
URL:http://www.kettle100.com/
CATEGORIES:Ultramarathon
CONTACT:Jason Dorgan & Tim 'Timo' Yanacheck
CLASS:PUBLIC
PRIORITY:5
TRANSP:OPAQUE
END:VEVENT
END:VCALENDAR
