BEGIN:VCALENDAR
PRODID:-//http://statistik.d-u-v.org//PHP ultracalendar//EN
VERSION:2.0
METHOD:PUBLISH
BEGIN:VEVENT
DTSTAMP:20260423T070128
CREATED:20220620T183123
UID:1776927688.0.51442300-87727@statistik.d-u-v.org
SUMMARY:The San Francisco Ultramarathon
DESCRIPTION: The San Francisco Ultramarathon\n
  \n
  customersupport[at]thesfmarathon.com
DTSTART:20210919T230000
DTEND:20210920T235900
LOCATION:San Francisco, CA\, USA
URL:http://www.thesfmarathon.com/
CATEGORIES:Ultramarathon
CONTACT:
CLASS:PUBLIC
PRIORITY:5
TRANSP:OPAQUE
END:VEVENT
END:VCALENDAR
