BEGIN:VCALENDAR
PRODID:-//http://statistik.d-u-v.org//PHP ultracalendar//EN
VERSION:2.0
METHOD:PUBLISH
BEGIN:VEVENT
DTSTAMP:20260425T235532
CREATED:20220620T182239
UID:1777161332.0.63455100-87721@statistik.d-u-v.org
SUMMARY:The Blue 2 Blue Challenge
DESCRIPTION: The Blue 2 Blue Challenge\n
  \n
  jimmy[at]liveloudrunning.com
DTSTART:20220917T080000
DTEND:00000000T235900
LOCATION:New Haven, CT\, USA
URL:https://www.liveloudrunning.com/event-info/the-blue-2-blue-challenge
CATEGORIES:Ultramarathon
CONTACT:
CLASS:PUBLIC
PRIORITY:5
TRANSP:OPAQUE
END:VEVENT
END:VCALENDAR
