BEGIN:VCALENDAR
PRODID:-//http://statistik.d-u-v.org//PHP ultracalendar//EN
VERSION:2.0
METHOD:PUBLISH
BEGIN:VEVENT
DTSTAMP:20260419T164649
CREATED:20220620T174641
UID:1776617209.0.06058500-87694@statistik.d-u-v.org
SUMMARY:Rough Creek Trail Run
DESCRIPTION: Rough Creek Trail Run\n
  Race Director Libby Jones\n
  info[at]roughcreektrailrun.com
DTSTART:20220917T000000
DTEND:00000000T235900
LOCATION:Glen Rose, TX\, USA
URL:http://www.roughcreektrailrun.com/
CATEGORIES:Ultramarathon
CONTACT:Race Director Libby Jones
CLASS:PUBLIC
PRIORITY:5
TRANSP:OPAQUE
END:VEVENT
END:VCALENDAR
