BEGIN:VCALENDAR
PRODID:-//http://statistik.d-u-v.org//PHP ultracalendar//EN
VERSION:2.0
METHOD:PUBLISH
BEGIN:VEVENT
DTSTAMP:20260419T233205
CREATED:20220620T160034
UID:1776641525.0.62528000-87680@statistik.d-u-v.org
SUMMARY:Ultra Trail Stokely Creek 56 km Race
DESCRIPTION: Ultra Trail Stokely Creek 56 km Race\n
  \n
  
DTSTART:20210918T000000
DTEND:00000000T235900
LOCATION:Goulais River, ON\, CAN
URL:https://utstokelycreek.com/
CATEGORIES:Ultramarathon
CONTACT:
CLASS:PUBLIC
PRIORITY:5
TRANSP:OPAQUE
END:VEVENT
END:VCALENDAR
