BEGIN:VCALENDAR
PRODID:-//http://statistik.d-u-v.org//PHP ultracalendar//EN
VERSION:2.0
METHOD:PUBLISH
BEGIN:VEVENT
DTSTAMP:20260423T043540
CREATED:20220609T095602
UID:1776918940.0.71852700-87436@statistik.d-u-v.org
SUMMARY:Virgil Crest 100 Mile Ultra
DESCRIPTION: Virgil Crest 100 Mile Ultra\n
  Ian Golden\n
  ian[at]flrtc.com
DTSTART:20210911T000000
DTEND:20210912T235900
LOCATION:Virgil, NY\, USA
URL:http://www.virgilcrestultras.com/
CATEGORIES:Ultramarathon
CONTACT:Ian Golden
CLASS:PUBLIC
PRIORITY:5
TRANSP:OPAQUE
END:VEVENT
END:VCALENDAR
