BEGIN:VCALENDAR
PRODID:-//http://statistik.d-u-v.org//PHP ultracalendar//EN
VERSION:2.0
METHOD:PUBLISH
BEGIN:VEVENT
DTSTAMP:20260423T062939
CREATED:20220602T133708
UID:1776925779.0.30637200-87240@statistik.d-u-v.org
SUMMARY:Ozarks Foothills 100M
DESCRIPTION: Ozarks Foothills 100M\n
  Race Director Shalini Kovach\n
  terraintrailrunners[at]gmail.com
DTSTART:20220409T060000
DTEND:20220410T140000
LOCATION:Wildwood, MO\, USA
URL:http://ozarkfoothills.weebly.com/
CATEGORIES:Ultramarathon
CONTACT:Race Director Shalini Kovach
CLASS:PUBLIC
PRIORITY:5
TRANSP:OPAQUE
END:VEVENT
END:VCALENDAR
