BEGIN:VCALENDAR
PRODID:-//http://statistik.d-u-v.org//PHP ultracalendar//EN
VERSION:2.0
METHOD:PUBLISH
BEGIN:VEVENT
DTSTAMP:20260423T012303
CREATED:20220602T095847
UID:1776907383.0.16036600-87200@statistik.d-u-v.org
SUMMARY:Steep Ultra 100 km Race
DESCRIPTION: Steep Ultra 100 km Race\n
  \n
  racedirector[at]nlmountainrace.com
DTSTART:20220903T000000
DTEND:20220904T235900
LOCATION:Corner Brook, NL\, CAN
URL:https://nlmountainultra.weebly.com/
CATEGORIES:Ultramarathon
CONTACT:
CLASS:PUBLIC
PRIORITY:5
TRANSP:OPAQUE
END:VEVENT
END:VCALENDAR
