BEGIN:VCALENDAR
PRODID:-//http://statistik.d-u-v.org//PHP ultracalendar//EN
VERSION:2.0
METHOD:PUBLISH
BEGIN:VEVENT
DTSTAMP:20260419T233205
CREATED:20220601T165812
UID:1776641525.0.53366000-87177@statistik.d-u-v.org
SUMMARY:The Blood Run at The Good Earth Farm 24 Hour
DESCRIPTION: The Blood Run at The Good Earth Farm 24 Hour\n
  \n
  
DTSTART:20210904T000000
DTEND:20210905T235900
LOCATION:Lennox, SD\, USA
URL:https://www.facebook.com/Thebloodrun/
CATEGORIES:Ultramarathon
CONTACT:
CLASS:PUBLIC
PRIORITY:5
TRANSP:OPAQUE
END:VEVENT
END:VCALENDAR
