BEGIN:VCALENDAR
PRODID:-//http://statistik.d-u-v.org//PHP ultracalendar//EN
VERSION:2.0
METHOD:PUBLISH
BEGIN:VEVENT
DTSTAMP:20260423T023724
CREATED:20220601T123556
UID:1776911844.0.72696200-87136@statistik.d-u-v.org
SUMMARY:White Pine 50 Mile Backcountry Run
DESCRIPTION: White Pine 50 Mile Backcountry Run\n
  Jason Wooden\n
  
DTSTART:20220820T060000
DTEND:00000000T235900
LOCATION:Garden City, UT\, USA
URL:https://wp50.blogspot.com/
CATEGORIES:Ultramarathon
CONTACT:Jason Wooden
CLASS:PUBLIC
PRIORITY:5
TRANSP:OPAQUE
END:VEVENT
END:VCALENDAR
