BEGIN:VCALENDAR
PRODID:-//http://statistik.d-u-v.org//PHP ultracalendar//EN
VERSION:2.0
METHOD:PUBLISH
BEGIN:VEVENT
DTSTAMP:20260422T234911
CREATED:20220528T202835
UID:1776901751.0.29193800-87033@statistik.d-u-v.org
SUMMARY:Olympic Mountains 50 Mile Race
DESCRIPTION: Olympic Mountains 50 Mile Race\n
  \n
  hello[at]everlongendurance.com
DTSTART:20210911T060000
DTEND:00000000T235900
LOCATION:Quilcene, WA\, USA
URL:http://www.everlongendurance.com
CATEGORIES:Ultramarathon
CONTACT:
CLASS:PUBLIC
PRIORITY:5
TRANSP:OPAQUE
END:VEVENT
END:VCALENDAR
