BEGIN:VCALENDAR
PRODID:-//http://statistik.d-u-v.org//PHP ultracalendar//EN
VERSION:2.0
METHOD:PUBLISH
BEGIN:VEVENT
DTSTAMP:20260423T044401
CREATED:20220526T145718
UID:1776919441.0.88678900-86980@statistik.d-u-v.org
SUMMARY:Great Divide 50 km Race
DESCRIPTION: Great Divide 50 km Race\n
  \n
  
DTSTART:20220907T000000
DTEND:00000000T235900
LOCATION:Marysville, MT\, USA
URL:https://runsignup.com/Race/MT/Marysville/TheGreatDivideSkiAreaTrailRace
CATEGORIES:Ultramarathon
CONTACT:
CLASS:PUBLIC
PRIORITY:5
TRANSP:OPAQUE
END:VEVENT
END:VCALENDAR
