BEGIN:VCALENDAR
PRODID:-//http://statistik.d-u-v.org//PHP ultracalendar//EN
VERSION:2.0
METHOD:PUBLISH
BEGIN:VEVENT
DTSTAMP:20260420T031906
CREATED:20220526T142600
UID:1776655146.0.46474800-86968@statistik.d-u-v.org
SUMMARY:Steel City 12 Hour Endurance Run
DESCRIPTION: Steel City 12 Hour Endurance Run\n
  \n
  
DTSTART:20220813T000000
DTEND:00000000T235900
LOCATION:Middletown, OH\, USA
URL:https://www.brunningendurance.com/steel-city-registration
CATEGORIES:Ultramarathon
CONTACT:
CLASS:PUBLIC
PRIORITY:5
TRANSP:OPAQUE
END:VEVENT
END:VCALENDAR
