BEGIN:VCALENDAR
PRODID:-//http://statistik.d-u-v.org//PHP ultracalendar//EN
VERSION:2.0
METHOD:PUBLISH
BEGIN:VEVENT
DTSTAMP:20260419T192400
CREATED:20220526T141627
UID:1776626640.0.47680900-86964@statistik.d-u-v.org
SUMMARY:The Foxtail Hundred 50km Rail Trail Race
DESCRIPTION: The Foxtail Hundred 50km Rail Trail Race\n
  \n
  happytrailsracing[at]gmail.com
DTSTART:20220827T000000
DTEND:00000000T235900
LOCATION:Dundas, ON\, CAN
URL:https://www.happytrailsracing.com/races
CATEGORIES:Ultramarathon
CONTACT:
CLASS:PUBLIC
PRIORITY:5
TRANSP:OPAQUE
END:VEVENT
END:VCALENDAR
