BEGIN:VCALENDAR
PRODID:-//http://statistik.d-u-v.org//PHP ultracalendar//EN
VERSION:2.0
METHOD:PUBLISH
BEGIN:VEVENT
DTSTAMP:20260419T200551
CREATED:20220525T184905
UID:1776629151.0.15242000-86906@statistik.d-u-v.org
SUMMARY:Folsom South Side Trail Run 50 Km
DESCRIPTION: Folsom South Side Trail Run 50 Km\n
  \n
  troy[at]tctruns.com
DTSTART:20230128T080000
DTEND:00000000T235900
LOCATION:Folsom, CA\, USA
URL:http://www.tctruns.com/
CATEGORIES:Ultramarathon
CONTACT:
CLASS:PUBLIC
PRIORITY:5
TRANSP:OPAQUE
END:VEVENT
END:VCALENDAR
