BEGIN:VCALENDAR
PRODID:-//http://statistik.d-u-v.org//PHP ultracalendar//EN
VERSION:2.0
METHOD:PUBLISH
BEGIN:VEVENT
DTSTAMP:20260419T220829
CREATED:20220525T171928
UID:1776636509.0.96687600-86893@statistik.d-u-v.org
SUMMARY:Wyoming Range 100 Mile Endurance Run
DESCRIPTION: Wyoming Range 100 Mile Endurance Run\n
  001-202-550-5855\n
  
DTSTART:20210820T000000
DTEND:20210821T235900
LOCATION:Hoback, WY\, USA
URL:https://www.everlongendurance.com/wyomingrange
CATEGORIES:Ultramarathon
CONTACT:001-202-550-5855
CLASS:PUBLIC
PRIORITY:5
TRANSP:OPAQUE
END:VEVENT
END:VCALENDAR
