BEGIN:VCALENDAR
PRODID:-//http://statistik.d-u-v.org//PHP ultracalendar//EN
VERSION:2.0
METHOD:PUBLISH
BEGIN:VEVENT
DTSTAMP:20260425T235535
CREATED:20220525T164708
UID:1777161335.0.27662900-86892@statistik.d-u-v.org
SUMMARY:Kodiak 100 Mile Ultramarathon
DESCRIPTION: Kodiak 100 Mile Ultramarathon\n
  Susie Schmelzer\n
  kodiakultramarathons[at]gmail.com
DTSTART:20210820T000000
DTEND:20210821T235900
LOCATION:Big Bear, CA\, USA
URL:https://www.kodiak100.com
CATEGORIES:Ultramarathon
CONTACT:Susie Schmelzer
CLASS:PUBLIC
PRIORITY:5
TRANSP:OPAQUE
END:VEVENT
END:VCALENDAR
