BEGIN:VCALENDAR
PRODID:-//http://statistik.d-u-v.org//PHP ultracalendar//EN
VERSION:2.0
METHOD:PUBLISH
BEGIN:VEVENT
DTSTAMP:20260419T190025
CREATED:20220525T112656
UID:1776625225.0.39630200-86870@statistik.d-u-v.org
SUMMARY:AZT Oracle Rumble 50 Mile
DESCRIPTION: AZT Oracle Rumble 50 Mile\n
  Steve Outridge\n
  oraclerd[at]aztrail.org
DTSTART:20230128T073000
DTEND:00000000T235900
LOCATION:Oracle, AZ\, USA
URL:https://runazt.org/oracle-rumble/
CATEGORIES:Ultramarathon
CONTACT:Steve Outridge
CLASS:PUBLIC
PRIORITY:5
TRANSP:OPAQUE
END:VEVENT
END:VCALENDAR
