BEGIN:VCALENDAR
PRODID:-//http://statistik.d-u-v.org//PHP ultracalendar//EN
VERSION:2.0
METHOD:PUBLISH
BEGIN:VEVENT
DTSTAMP:20260426T001421
CREATED:20220524T224608
UID:1777162461.0.68743300-86867@statistik.d-u-v.org
SUMMARY:UMF Summer Ed. 6d
DESCRIPTION: UMF Summer Ed. 6d\n
  Pasquale Brandi\n
  pasqual.brandi[at]tiscali.it
DTSTART:20220925T150000
DTEND:20221001T150000
LOCATION:Policoro (MT)\, ITA
URL:https://www.6giornidelpantano.com/
CATEGORIES:Ultramarathon
CONTACT:Pasquale Brandi
CLASS:PUBLIC
PRIORITY:5
TRANSP:OPAQUE
END:VEVENT
END:VCALENDAR
