BEGIN:VCALENDAR
PRODID:-//http://statistik.d-u-v.org//PHP ultracalendar//EN
VERSION:2.0
METHOD:PUBLISH
BEGIN:VEVENT
DTSTAMP:20260425T192748
CREATED:20101016T140819
UID:1777145268.0.36236000-8685@statistik.d-u-v.org
SUMMARY:Chiemgauer 100 - 100 Meilen Bergultralauf
DESCRIPTION: Chiemgauer 100 - 100 Meilen Bergultralauf\n
  Giselher Schneider\n
  info[at]chiemgauer100.de
DTSTART:20110729T000000
DTEND:20110730T235900
LOCATION:Ruhpolding\, GER
URL:http://www.chiemgauer100.de
CATEGORIES:Ultramarathon
CONTACT:Giselher Schneider
CLASS:PUBLIC
PRIORITY:5
TRANSP:OPAQUE
END:VEVENT
END:VCALENDAR
