BEGIN:VCALENDAR
PRODID:-//http://statistik.d-u-v.org//PHP ultracalendar//EN
VERSION:2.0
METHOD:PUBLISH
BEGIN:VEVENT
DTSTAMP:20260419T192500
CREATED:20220523T045523
UID:1776626700.0.80824000-86812@statistik.d-u-v.org
SUMMARY:Pong Yaeng 100 Km Trail (PTY100)
DESCRIPTION: Pong Yaeng 100 Km Trail (PTY100)\n
  \n
  info[at]pyt.run
DTSTART:20220115T050000
DTEND:20220116T100000
LOCATION:Chiang Mai\, THA
URL:https://www.facebook.com/PYT.run/
CATEGORIES:Ultramarathon
CONTACT:
CLASS:PUBLIC
PRIORITY:5
TRANSP:OPAQUE
END:VEVENT
END:VCALENDAR
