BEGIN:VCALENDAR
PRODID:-//http://statistik.d-u-v.org//PHP ultracalendar//EN
VERSION:2.0
METHOD:PUBLISH
BEGIN:VEVENT
DTSTAMP:20260419T192252
CREATED:20220522T151402
UID:1776626572.0.73844400-86771@statistik.d-u-v.org
SUMMARY:Go Short, Go Long, Go Very Long 50K
DESCRIPTION: Go Short, Go Long, Go Very Long 50K\n
  \n
  tim[at]fleetfeettulsa.com
DTSTART:20220122T080000
DTEND:00000000T235900
LOCATION:Tulsa, OK\, USA
URL:https://runsignup.com/Race/OK/Tulsa/GoShortGoLongGoVeryLong
CATEGORIES:Ultramarathon
CONTACT:
CLASS:PUBLIC
PRIORITY:5
TRANSP:OPAQUE
END:VEVENT
END:VCALENDAR
