BEGIN:VCALENDAR
PRODID:-//http://statistik.d-u-v.org//PHP ultracalendar//EN
VERSION:2.0
METHOD:PUBLISH
BEGIN:VEVENT
DTSTAMP:20260419T210137
CREATED:20220520T214024
UID:1776632497.0.57315200-86709@statistik.d-u-v.org
SUMMARY:Mac Mac Ultra 200 Mile
DESCRIPTION: Mac Mac Ultra 200 Mile\n
  \n
  info[at]macmacultra.com
DTSTART:20220518T120000
DTEND:20220522T235900
LOCATION:Sabie\, RSA
URL:https://macmacultra.com/
CATEGORIES:Ultramarathon
CONTACT:
CLASS:PUBLIC
PRIORITY:5
TRANSP:OPAQUE
END:VEVENT
END:VCALENDAR
