BEGIN:VCALENDAR
PRODID:-//http://statistik.d-u-v.org//PHP ultracalendar//EN
VERSION:2.0
METHOD:PUBLISH
BEGIN:VEVENT
DTSTAMP:20260419T202856
CREATED:20220513T193430
UID:1776630536.0.85529700-86555@statistik.d-u-v.org
SUMMARY:Kennedymars 
DESCRIPTION: Kennedymars \n
  \n
  
DTSTART:20060415T000000
DTEND:00000000T235900
LOCATION:Sittard\, NED
URL:
CATEGORIES:Ultramarathon
CONTACT:
CLASS:PUBLIC
PRIORITY:5
TRANSP:OPAQUE
END:VEVENT
END:VCALENDAR
