BEGIN:VCALENDAR
PRODID:-//http://statistik.d-u-v.org//PHP ultracalendar//EN
VERSION:2.0
METHOD:PUBLISH
BEGIN:VEVENT
DTSTAMP:20260421T155024
CREATED:20220512T175705
UID:1776786624.0.09319000-86523@statistik.d-u-v.org
SUMMARY:8 jours 'No Finish Line', Monaco - 48h Split
DESCRIPTION: 8 jours 'No Finish Line', Monaco - 48h Split\n
  \n
  philippe[at]nofinishline.com
DTSTART:20151114T140000
DTEND:20151116T140000
LOCATION:Monaco\, MON
URL:http://www.nofinishline.com
CATEGORIES:Ultramarathon
CONTACT:
CLASS:PUBLIC
PRIORITY:5
TRANSP:OPAQUE
END:VEVENT
END:VCALENDAR
