BEGIN:VCALENDAR
PRODID:-//http://statistik.d-u-v.org//PHP ultracalendar//EN
VERSION:2.0
METHOD:PUBLISH
BEGIN:VEVENT
DTSTAMP:20260424T205520
CREATED:20220511T132933
UID:1777064120.0.79424700-86476@statistik.d-u-v.org
SUMMARY:Light Horse Ultra - 6h
DESCRIPTION: Light Horse Ultra - 6h\n
  Race Director Shaun Kaesler\n
  shaun[at]ultraserieswa.com.au
DTSTART:20220424T060000
DTEND:00000000T235900
LOCATION:Yellagonga Regional Park, WA\, AUS
URL:http://lighthorseultra.com.au
CATEGORIES:Ultramarathon
CONTACT:Race Director Shaun Kaesler
CLASS:PUBLIC
PRIORITY:5
TRANSP:OPAQUE
END:VEVENT
END:VCALENDAR
