BEGIN:VCALENDAR
PRODID:-//http://statistik.d-u-v.org//PHP ultracalendar//EN
VERSION:2.0
METHOD:PUBLISH
BEGIN:VEVENT
DTSTAMP:20260423T053938
CREATED:20220506T232445
UID:1776922778.0.29248700-86303@statistik.d-u-v.org
SUMMARY:SMIR (Stockholm Multi Island Run)
DESCRIPTION: SMIR (Stockholm Multi Island Run)\n
  Nicholas Roman\n
  nicholas.roman[at]challengize.com
DTSTART:20220702T060000
DTEND:00000000T235900
LOCATION:Stockholm\, SWE
URL:http://www.stockholmmultiislandrun.com
CATEGORIES:Ultramarathon
CONTACT:Nicholas Roman
CLASS:PUBLIC
PRIORITY:5
TRANSP:OPAQUE
END:VEVENT
END:VCALENDAR
