BEGIN:VCALENDAR
PRODID:-//http://statistik.d-u-v.org//PHP ultracalendar//EN
VERSION:2.0
METHOD:PUBLISH
BEGIN:VEVENT
DTSTAMP:20260423T034859
CREATED:20220505T143200
UID:1776916139.0.69236200-86228@statistik.d-u-v.org
SUMMARY:The Shippey 100km Endurance Runs
DESCRIPTION: The Shippey 100km Endurance Runs\n
  \n
  crushtownracemgmt[at]gmail.com
DTSTART:20230114T070000
DTEND:20230115T030000
LOCATION:High Ridge, MO\, USA
URL:https://www.facebook.com/ShippeyEndurance/
CATEGORIES:Ultramarathon
CONTACT:
CLASS:PUBLIC
PRIORITY:5
TRANSP:OPAQUE
END:VEVENT
END:VCALENDAR
