BEGIN:VCALENDAR
PRODID:-//http://statistik.d-u-v.org//PHP ultracalendar//EN
VERSION:2.0
METHOD:PUBLISH
BEGIN:VEVENT
DTSTAMP:20260423T053933
CREATED:20220504T200510
UID:1776922773.0.10080800-86222@statistik.d-u-v.org
SUMMARY:Addo Elephant 76 Km Trail Run
DESCRIPTION: Addo Elephant 76 Km Trail Run\n
  Estienne and Nadia Arndt\n
  sheena[at]freespiritadventures.org
DTSTART:20220318T053000
DTEND:00000000T235900
LOCATION:Addo National Park\, RSA
URL:https://addo.run/
CATEGORIES:Ultramarathon
CONTACT:Estienne and Nadia Arndt
CLASS:PUBLIC
PRIORITY:5
TRANSP:OPAQUE
END:VEVENT
END:VCALENDAR
