BEGIN:VCALENDAR
PRODID:-//http://statistik.d-u-v.org//PHP ultracalendar//EN
VERSION:2.0
METHOD:PUBLISH
BEGIN:VEVENT
DTSTAMP:20260419T183130
CREATED:20220502T115553
UID:1776623490.0.69568100-86089@statistik.d-u-v.org
SUMMARY:Centurion Track 100 - 6h Split
DESCRIPTION: Centurion Track 100 - 6h Split\n
  James Elson\n
  racedirector[at]centurionrunning.com
DTSTART:20220423T060000
DTEND:00000000T235900
LOCATION:Bedford\, GBR
URL:http://www.centurionrunning.com/
CATEGORIES:Ultramarathon
CONTACT:James Elson
CLASS:PUBLIC
PRIORITY:5
TRANSP:OPAQUE
END:VEVENT
END:VCALENDAR
