BEGIN:VCALENDAR
PRODID:-//http://statistik.d-u-v.org//PHP ultracalendar//EN
VERSION:2.0
METHOD:PUBLISH
BEGIN:VEVENT
DTSTAMP:20260425T195243
CREATED:20220430T202428
UID:1777146763.0.20653600-86057@statistik.d-u-v.org
SUMMARY:Everest Ultra Marathon - 100km
DESCRIPTION: Everest Ultra Marathon - 100km\n
  Anastasia Gladkova\n
  nastiasharova77[at]mail.ru
DTSTART:20210424T100000
DTEND:20210425T100000
LOCATION:St. Petersburg\, RUS
URL:http://vk.com/runners_world
CATEGORIES:Ultramarathon
CONTACT:Anastasia Gladkova
CLASS:PUBLIC
PRIORITY:5
TRANSP:OPAQUE
END:VEVENT
END:VCALENDAR
