BEGIN:VCALENDAR
PRODID:-//http://statistik.d-u-v.org//PHP ultracalendar//EN
VERSION:2.0
METHOD:PUBLISH
BEGIN:VEVENT
DTSTAMP:20260425T170435
CREATED:20220429T075908
UID:1777136675.0.04091300-86030@statistik.d-u-v.org
SUMMARY:70 km Ultra Maranic Osaka
DESCRIPTION: 70 km Ultra Maranic Osaka\n
  \n
  info[at]osakaultra.com
DTSTART:20220417T063000
DTEND:00000000T235900
LOCATION:Osaka\, JPN
URL:https://info871433.wixsite.com/osakaultra/blank-7
CATEGORIES:Ultramarathon
CONTACT:
CLASS:PUBLIC
PRIORITY:5
TRANSP:OPAQUE
END:VEVENT
END:VCALENDAR
