BEGIN:VCALENDAR
PRODID:-//http://statistik.d-u-v.org//PHP ultracalendar//EN
VERSION:2.0
METHOD:PUBLISH
BEGIN:VEVENT
DTSTAMP:20260423T100304
CREATED:20220426T003846
UID:1776938584.0.89552600-85955@statistik.d-u-v.org
SUMMARY:East Coast 24 Hour Track
DESCRIPTION: East Coast 24 Hour Track\n
  \n
  milesandmacros[at]gmail.com
DTSTART:20220618T071500
DTEND:00000000T235900
LOCATION:Fayetteville, NY\, USA
URL:https://www.milesandmacros.net/east-coast-24-hour-track-event.html
CATEGORIES:Ultramarathon
CONTACT:
CLASS:PUBLIC
PRIORITY:5
TRANSP:OPAQUE
END:VEVENT
END:VCALENDAR
