BEGIN:VCALENDAR
PRODID:-//http://statistik.d-u-v.org//PHP ultracalendar//EN
VERSION:2.0
METHOD:PUBLISH
BEGIN:VEVENT
DTSTAMP:20260419T192512
CREATED:20220426T002907
UID:1776626712.0.90322500-85952@statistik.d-u-v.org
SUMMARY:Wicked Root Revival 50 km Race
DESCRIPTION: Wicked Root Revival 50 km Race\n
  \n
  dirtywolfultras[at]gmail.com
DTSTART:20230401T080000
DTEND:00000000T235900
LOCATION:Gastonia, NC\, USA
URL:https://www.facebook.com/wickedrootultra/
CATEGORIES:Ultramarathon
CONTACT:
CLASS:PUBLIC
PRIORITY:5
TRANSP:OPAQUE
END:VEVENT
END:VCALENDAR
