BEGIN:VCALENDAR
PRODID:-//http://statistik.d-u-v.org//PHP ultracalendar//EN
VERSION:2.0
METHOD:PUBLISH
BEGIN:VEVENT
DTSTAMP:20260419T210154
CREATED:20220419T220605
UID:1776632514.0.20417600-85772@statistik.d-u-v.org
SUMMARY:Schwarzwaldultra 3. Etappe
DESCRIPTION: Schwarzwaldultra 3. Etappe\n
  Thomas Dornburg\n
  thomas[at]neckarlauf.com
DTSTART:20220523T070000
DTEND:00000000T235900
LOCATION:Freudenstadt-Grüntal\, GER
URL:http://neckarlauf.com
CATEGORIES:Ultramarathon
CONTACT:Thomas Dornburg
CLASS:PUBLIC
PRIORITY:5
TRANSP:OPAQUE
END:VEVENT
END:VCALENDAR
