BEGIN:VCALENDAR
PRODID:-//http://statistik.d-u-v.org//PHP ultracalendar//EN
VERSION:2.0
METHOD:PUBLISH
BEGIN:VEVENT
DTSTAMP:20260419T195344
CREATED:20220419T214209
UID:1776628424.0.70020300-85761@statistik.d-u-v.org
SUMMARY:Schwarzwaldultra
DESCRIPTION: Schwarzwaldultra\n
  Thomas Dornburg\n
  thomas[at]neckarlauf.com
DTSTART:20220521T070000
DTEND:20220523T180000
LOCATION:Freudenstadt-Grüntal\, GER
URL:http://neckarlauf.com
CATEGORIES:Ultramarathon
CONTACT:Thomas Dornburg
CLASS:PUBLIC
PRIORITY:5
TRANSP:OPAQUE
END:VEVENT
END:VCALENDAR
