BEGIN:VCALENDAR
PRODID:-//http://statistik.d-u-v.org//PHP ultracalendar//EN
VERSION:2.0
METHOD:PUBLISH
BEGIN:VEVENT
DTSTAMP:20260423T071050
CREATED:20220419T131352
UID:1776928250.0.14416700-85752@statistik.d-u-v.org
SUMMARY:Ohio's Backyard Ultra
DESCRIPTION: Ohio's Backyard Ultra\n
  \n
  michael[at]seotrevents.com
DTSTART:20220319T073000
DTEND:20220321T053000
LOCATION:Lucasville, OH\, USA
URL:https://www.seotrevents.com/backyardultra
CATEGORIES:Ultramarathon
CONTACT:
CLASS:PUBLIC
PRIORITY:5
TRANSP:OPAQUE
END:VEVENT
END:VCALENDAR
