BEGIN:VCALENDAR
PRODID:-//http://statistik.d-u-v.org//PHP ultracalendar//EN
VERSION:2.0
METHOD:PUBLISH
BEGIN:VEVENT
DTSTAMP:20260419T164356
CREATED:20101018T160651
UID:1776617036.0.62955100-8561@statistik.d-u-v.org
SUMMARY:3 Days at the Fair 12 Hour Race
DESCRIPTION: 3 Days at the Fair 12 Hour Race\n
  \n
  
DTSTART:20110514T000000
DTEND:20110515T235900
LOCATION:Augusta, NJ\, USA
URL:http://sites.google.com/site/xxctrailseries/fair
CATEGORIES:Ultramarathon
CONTACT:
CLASS:PUBLIC
PRIORITY:5
TRANSP:OPAQUE
END:VEVENT
END:VCALENDAR
