BEGIN:VCALENDAR
PRODID:-//http://statistik.d-u-v.org//PHP ultracalendar//EN
VERSION:2.0
METHOD:PUBLISH
BEGIN:VEVENT
DTSTAMP:20260419T192524
CREATED:20220405T161942
UID:1776626724.0.10857200-85480@statistik.d-u-v.org
SUMMARY:JOGLE Ultra - Etappe 8
DESCRIPTION: JOGLE Ultra - Etappe 8\n
  Steven Worrallo\n
  info[at]ultrarunningltd.co.uk
DTSTART:20220325T000000
DTEND:00000000T235900
LOCATION:Carlisle\, GBR
URL:http://www.ultrarunningltd.co.uk/2xu-jogle.html
CATEGORIES:Ultramarathon
CONTACT:Steven Worrallo
CLASS:PUBLIC
PRIORITY:5
TRANSP:OPAQUE
END:VEVENT
END:VCALENDAR
