BEGIN:VCALENDAR
PRODID:-//http://statistik.d-u-v.org//PHP ultracalendar//EN
VERSION:2.0
METHOD:PUBLISH
BEGIN:VEVENT
DTSTAMP:20260419T190024
CREATED:20220405T113053
UID:1776625224.0.30434500-85433@statistik.d-u-v.org
SUMMARY:RWA 50km Championship
DESCRIPTION: RWA 50km Championship\n
  \n
  
DTSTART:19900714T060000
DTEND:00000000T235900
LOCATION:Adelaide, SA\, AUS
URL:http://www.vrwc.org.au/RWA-Results/Australian%20Championships%20Men%201989-1992.pdf
CATEGORIES:Ultramarathon
CONTACT:
CLASS:PUBLIC
PRIORITY:5
TRANSP:OPAQUE
END:VEVENT
END:VCALENDAR
