BEGIN:VCALENDAR
PRODID:-//http://statistik.d-u-v.org//PHP ultracalendar//EN
VERSION:2.0
METHOD:PUBLISH
BEGIN:VEVENT
DTSTAMP:20260424T175924
CREATED:20220404T134213
UID:1777053564.0.64562500-85358@statistik.d-u-v.org
SUMMARY:Shelli Huether Veterans Day Honor Run
DESCRIPTION: Shelli Huether Veterans Day Honor Run\n
  Anita Daneker\n
  anita[at]shellihuetherhonorrun.com
DTSTART:20221112T080000
DTEND:00000000T235900
LOCATION:Brentwood, TN\, USA
URL:https://shellihuetherhonorrun.com
CATEGORIES:Ultramarathon
CONTACT:Anita Daneker
CLASS:PUBLIC
PRIORITY:5
TRANSP:OPAQUE
END:VEVENT
END:VCALENDAR
