BEGIN:VCALENDAR
PRODID:-//http://statistik.d-u-v.org//PHP ultracalendar//EN
VERSION:2.0
METHOD:PUBLISH
BEGIN:VEVENT
DTSTAMP:20260419T185800
CREATED:20220326T115809
UID:1776625080.0.29476200-85225@statistik.d-u-v.org
SUMMARY:Otley High Views Ultra 34mi
DESCRIPTION: Otley High Views Ultra 34mi\n
  Ryk Downes\n
  admin[at]punkpanther.co.uk
DTSTART:20220702T080000
DTEND:00000000T235900
LOCATION:Otley\, GBR
URL:http://punkpanther.co.uk
CATEGORIES:Ultramarathon
CONTACT:Ryk Downes
CLASS:PUBLIC
PRIORITY:5
TRANSP:OPAQUE
END:VEVENT
END:VCALENDAR
