BEGIN:VCALENDAR
PRODID:-//http://statistik.d-u-v.org//PHP ultracalendar//EN
VERSION:2.0
METHOD:PUBLISH
BEGIN:VEVENT
DTSTAMP:20260419T190022
CREATED:20220326T060055
UID:1776625222.0.93840700-85215@statistik.d-u-v.org
SUMMARY:Self-Transcendence 3100 Mile Race - 6d Split
DESCRIPTION: Self-Transcendence 3100 Mile Race - 6d Split\n
  Sahishnu Szczesiul\n
  scmtny[at]earthlink.net
DTSTART:20210905T060000
DTEND:20210910T180000
LOCATION:New York, NY\, USA
URL:http://3100.srichinmoyraces.org/
CATEGORIES:Ultramarathon
CONTACT:Sahishnu Szczesiul
CLASS:PUBLIC
PRIORITY:5
TRANSP:OPAQUE
END:VEVENT
END:VCALENDAR
