BEGIN:VCALENDAR
PRODID:-//http://statistik.d-u-v.org//PHP ultracalendar//EN
VERSION:2.0
METHOD:PUBLISH
BEGIN:VEVENT
DTSTAMP:20260419T185922
CREATED:20220325T153638
UID:1776625162.0.38306200-85194@statistik.d-u-v.org
SUMMARY:24hrs Sittard - 100km Split
DESCRIPTION: 24hrs Sittard - 100km Split\n
  Luciën Thijssen\n
  lucien.thijssen[at]gmail.com
DTSTART:20220319T000000
DTEND:20220320T235900
LOCATION:Sittard\, NED
URL:https://www.24hrssittard.com/
CATEGORIES:Ultramarathon
CONTACT:Luciën Thijssen
CLASS:PUBLIC
PRIORITY:5
TRANSP:OPAQUE
END:VEVENT
END:VCALENDAR
