BEGIN:VCALENDAR
PRODID:-//http://statistik.d-u-v.org//PHP ultracalendar//EN
VERSION:2.0
METHOD:PUBLISH
BEGIN:VEVENT
DTSTAMP:20260422T035954
CREATED:20220323T200919
UID:1776830394.0.56219300-85144@statistik.d-u-v.org
SUMMARY:Self-Transcendence 12 Hour Race Riga
DESCRIPTION: Self-Transcendence 12 Hour Race Riga\n
  Emanuels Putans, Peteris Seso\n
  riga[at]srichinmoyraces.org
DTSTART:20220507T073000
DTEND:20220507T193000
LOCATION:Riga\, LAT
URL:https://lv.srichinmoyraces.org/12-hour-race
CATEGORIES:Ultramarathon
CONTACT:Emanuels Putans, Peteris Seso
CLASS:PUBLIC
PRIORITY:5
TRANSP:OPAQUE
END:VEVENT
END:VCALENDAR
