BEGIN:VCALENDAR
PRODID:-//http://statistik.d-u-v.org//PHP ultracalendar//EN
VERSION:2.0
METHOD:PUBLISH
BEGIN:VEVENT
DTSTAMP:20260424T214759
CREATED:20220321T023750
UID:1777067279.0.51804800-85083@statistik.d-u-v.org
SUMMARY:Bandai Highlands Inawashiro Lake - 65 km
DESCRIPTION: Bandai Highlands Inawashiro Lake - 65 km\n
  \n
  family-kazuhiro[at]wine.ocn.ne.jp
DTSTART:20130907T060000
DTEND:00000000T235900
LOCATION:Fukushima prefecture\, JPN
URL:https://www.sportsentry.ne.jp/event/t/33976
CATEGORIES:Ultramarathon
CONTACT:
CLASS:PUBLIC
PRIORITY:5
TRANSP:OPAQUE
END:VEVENT
END:VCALENDAR
