BEGIN:VCALENDAR
PRODID:-//http://statistik.d-u-v.org//PHP ultracalendar//EN
VERSION:2.0
METHOD:PUBLISH
BEGIN:VEVENT
DTSTAMP:20260423T003823
CREATED:20220318T140741
UID:1776904703.0.82077100-85020@statistik.d-u-v.org
SUMMARY:CrazyPigRiverValley UltraTrail
DESCRIPTION: CrazyPigRiverValley UltraTrail\n
  Axel Maidorn-Groth\n
  axelmaidorn[at]gmail.com
DTSTART:20221217T090000
DTEND:20221217T170000
LOCATION:Calw-Altburg\, GER
URL:http://www.e2h10k.de
CATEGORIES:Ultramarathon
CONTACT:Axel Maidorn-Groth
CLASS:PUBLIC
PRIORITY:5
TRANSP:OPAQUE
END:VEVENT
END:VCALENDAR
