BEGIN:VCALENDAR
PRODID:-//http://statistik.d-u-v.org//PHP ultracalendar//EN
VERSION:2.0
METHOD:PUBLISH
BEGIN:VEVENT
DTSTAMP:20260421T183158
CREATED:20220318T125859
UID:1776796318.0.61434700-85014@statistik.d-u-v.org
SUMMARY:European Athletics Championships - 50 km Walking
DESCRIPTION: European Athletics Championships - 50 km Walking\n
  \n
  
DTSTART:19380904T063000
DTEND:00000000T235900
LOCATION:Paris City\, FRA
URL:https://en.wikipedia.org/wiki/1938_European_Athletics_Championships_%E2%80%93_Men%27s_50_kilometres_walk
CATEGORIES:Ultramarathon
CONTACT:
CLASS:PUBLIC
PRIORITY:5
TRANSP:OPAQUE
END:VEVENT
END:VCALENDAR
