BEGIN:VCALENDAR
PRODID:-//http://statistik.d-u-v.org//PHP ultracalendar//EN
VERSION:2.0
METHOD:PUBLISH
BEGIN:VEVENT
DTSTAMP:20260419T164349
CREATED:20101004T182855
UID:1776617029.0.80296300-8491@statistik.d-u-v.org
SUMMARY:North Coast 24 Hour Endurance Run - Open race
DESCRIPTION: North Coast 24 Hour Endurance Run - Open race\n
  Frank Dwyer\n
  
DTSTART:20110917T090000
DTEND:20110918T090000
LOCATION:Cleveland, OH\, USA
URL:http://www.northcoast24.org/
CATEGORIES:Ultramarathon
CONTACT:Frank Dwyer
CLASS:PUBLIC
PRIORITY:5
TRANSP:OPAQUE
END:VEVENT
END:VCALENDAR
