BEGIN:VCALENDAR
PRODID:-//http://statistik.d-u-v.org//PHP ultracalendar//EN
VERSION:2.0
METHOD:PUBLISH
BEGIN:VEVENT
DTSTAMP:20260423T055354
CREATED:20220313T215241
UID:1776923634.0.46989000-84892@statistik.d-u-v.org
SUMMARY:Lattomeren Ultraintervalli 104km
DESCRIPTION: Lattomeren Ultraintervalli 104km\n
  \n
  
DTSTART:20220618T100000
DTEND:20220619T235900
LOCATION:Lattomeri\, FIN
URL:https://ultrajuoksu.fi/lattomeren-ultraintervalli/
CATEGORIES:Ultramarathon
CONTACT:
CLASS:PUBLIC
PRIORITY:5
TRANSP:OPAQUE
END:VEVENT
END:VCALENDAR
